BEGIN:VCALENDAR
VERSION:2.0
PRODID:-//University of Cleveland Prep - ECPv5.16.4//NONSGML v1.0//EN
CALSCALE:GREGORIAN
METHOD:PUBLISH
X-WR-CALNAME:University of Cleveland Prep
X-ORIGINAL-URL:https://uniclevelandprep.org
X-WR-CALDESC:Events for University of Cleveland Prep
BEGIN:VTIMEZONE
TZID:America/New_York
BEGIN:DAYLIGHT
TZOFFSETFROM:-0500
TZOFFSETTO:-0400
TZNAME:EDT
DTSTART:20270314T070000
END:DAYLIGHT
BEGIN:STANDARD
TZOFFSETFROM:-0400
TZOFFSETTO:-0500
TZNAME:EST
DTSTART:20271107T060000
END:STANDARD
END:VTIMEZONE
BEGIN:VEVENT
DTSTART;VALUE=DATE:20270118
DTEND;VALUE=DATE:20270119
DTSTAMP:20260421T070600
CREATED:20260416T190327Z
LAST-MODIFIED:20260416T190327Z
UID:10967-1800230400-1800316799@uniclevelandprep.org
SUMMARY:Martin Luther King Jr. Day (School Closed)
DESCRIPTION:
URL:https://uniclevelandprep.org/event/martin-luther-king-jr-day-school-closed-6/
LOCATION:University of Cleveland Preparatory School\, 1906 E 40th St\, Cleveland\, OH\, 44103\, United States
CATEGORIES:Calendar Only
GEO:41.5058834;-81.6589187
X-APPLE-STRUCTURED-LOCATION;VALUE=URI;X-ADDRESS=University of Cleveland Preparatory School 1906 E 40th St Cleveland OH 44103 United States;X-APPLE-RADIUS=500;X-TITLE=1906 E 40th St:geo:-81.6589187,41.5058834
END:VEVENT
END:VCALENDAR