BEGIN:VCALENDAR
VERSION:2.0
PRODID:-//University of Cleveland Prep - ECPv5.16.4//NONSGML v1.0//EN
CALSCALE:GREGORIAN
METHOD:PUBLISH
X-WR-CALNAME:University of Cleveland Prep
X-ORIGINAL-URL:https://uniclevelandprep.org
X-WR-CALDESC:Events for University of Cleveland Prep
BEGIN:VTIMEZONE
TZID:America/New_York
BEGIN:DAYLIGHT
TZOFFSETFROM:-0500
TZOFFSETTO:-0400
TZNAME:EDT
DTSTART:20260308T070000
END:DAYLIGHT
BEGIN:STANDARD
TZOFFSETFROM:-0400
TZOFFSETTO:-0500
TZNAME:EST
DTSTART:20261101T060000
END:STANDARD
END:VTIMEZONE
BEGIN:VEVENT
DTSTART;TZID=America/New_York:20260410T153000
DTEND;TZID=America/New_York:20260410T153000
DTSTAMP:20260421T103443
CREATED:20250701T150209Z
LAST-MODIFIED:20251029T170747Z
UID:10594-1775835000-1775835000@uniclevelandprep.org
SUMMARY:Board Meeting
DESCRIPTION:
URL:https://uniclevelandprep.org/event/board-meeting-51/
LOCATION:Garfield Heights Library\, Meeting Room\,  5409 Turney Rd.\, Garfield Heights\, OH\, 44125\, United States
CATEGORIES:Calendar Only,School Board
END:VEVENT
END:VCALENDAR